BEGIN:VCALENDAR
VERSION:2.0
PRODID:-//TicketFest - ECPv6.15.20//NONSGML v1.0//EN
CALSCALE:GREGORIAN
METHOD:PUBLISH
X-WR-CALNAME:TicketFest
X-ORIGINAL-URL:https://ticketfest.co.uk
X-WR-CALDESC:Events for TicketFest
REFRESH-INTERVAL;VALUE=DURATION:PT1H
X-Robots-Tag:noindex
X-PUBLISHED-TTL:PT1H
BEGIN:VTIMEZONE
TZID:Europe/London
BEGIN:DAYLIGHT
TZOFFSETFROM:+0000
TZOFFSETTO:+0100
TZNAME:BST
DTSTART:20250330T010000
END:DAYLIGHT
BEGIN:STANDARD
TZOFFSETFROM:+0100
TZOFFSETTO:+0000
TZNAME:GMT
DTSTART:20251026T010000
END:STANDARD
BEGIN:DAYLIGHT
TZOFFSETFROM:+0000
TZOFFSETTO:+0100
TZNAME:BST
DTSTART:20260329T010000
END:DAYLIGHT
BEGIN:STANDARD
TZOFFSETFROM:+0100
TZOFFSETTO:+0000
TZNAME:GMT
DTSTART:20261025T010000
END:STANDARD
BEGIN:DAYLIGHT
TZOFFSETFROM:+0000
TZOFFSETTO:+0100
TZNAME:BST
DTSTART:20270328T010000
END:DAYLIGHT
BEGIN:STANDARD
TZOFFSETFROM:+0100
TZOFFSETTO:+0000
TZNAME:GMT
DTSTART:20271031T010000
END:STANDARD
END:VTIMEZONE
BEGIN:VEVENT
DTSTART;TZID=Europe/London:20260606T170000
DTEND;TZID=Europe/London:20260606T233000
DTSTAMP:20260423T195008
CREATED:20260131T170248Z
LAST-MODIFIED:20260131T170252Z
UID:26805-1780765200-1780788600@ticketfest.co.uk
SUMMARY:SKULLFEST 2026 live at The Ramp Horwich. Saturday 6th June 2026. All proceeds go to Parkinson's UK.
DESCRIPTION:
URL:https://ticketfest.co.uk/event/skullfest-2026-live-at-the-ramp-horwich-saturday-6th-june-2026-all-proceeds-go-to-parkinsons-uk/
LOCATION:The Ramp Horwich\, unit 9 weavers corner\, horwich\, Bolton\, BL6 7JH
CATEGORIES:Community,Music
ATTACH;FMTTYPE=image/png:https://ticketfest.co.uk/wp-content/uploads/2026/01/image-17.png
END:VEVENT
BEGIN:VEVENT
DTSTART;TZID=Europe/London:20260612T190000
DTEND;TZID=Europe/London:20260612T233000
DTSTAMP:20260423T195008
CREATED:20260416T192927Z
LAST-MODIFIED:20260416T192931Z
UID:29390-1781290800-1781307000@ticketfest.co.uk
SUMMARY:GRAFFITI TREE live at The Ramp Horwich + incredible support. Friday 12TH June 2026
DESCRIPTION:
URL:https://ticketfest.co.uk/event/graffiti-tree-live-at-the-ramp-horwich-incredible-support-friday-12th-june-2026/
LOCATION:The Ramp Horwich\, unit 9 weavers corner\, horwich\, Bolton\, BL6 7JH
CATEGORIES:Music
ATTACH;FMTTYPE=image/png:https://ticketfest.co.uk/wp-content/uploads/2026/04/image-9.png
END:VEVENT
BEGIN:VEVENT
DTSTART;TZID=Europe/London:20260613T193000
DTEND;TZID=Europe/London:20260613T233000
DTSTAMP:20260423T195008
CREATED:20260118T203649Z
LAST-MODIFIED:20260204T204639Z
UID:26393-1781379000-1781393400@ticketfest.co.uk
SUMMARY:Hilda's Flying Ducks return to The Ramp Horwich. Saturday 13th June 2026 plus amazing support. Doors at 7.30PM
DESCRIPTION:
URL:https://ticketfest.co.uk/event/hildas-high-flying-ducks-return-to-the-ramp-horwich-saturday-13th-june-2026-plus-amazing-support-doors-at-7-30pm/
LOCATION:The Ramp Horwich\, unit 9 weavers corner\, horwich\, Bolton\, BL6 7JH
CATEGORIES:Music
ATTACH;FMTTYPE=image/png:https://ticketfest.co.uk/wp-content/uploads/2026/01/image-13.png
END:VEVENT
BEGIN:VEVENT
DTSTART;TZID=Europe/London:20260619T190000
DTEND;TZID=Europe/London:20260619T233000
DTSTAMP:20260423T195008
CREATED:20260325T204853Z
LAST-MODIFIED:20260325T205022Z
UID:28554-1781895600-1781911800@ticketfest.co.uk
SUMMARY:SABBRA CADABRA Live at The Ramp Horwich. Plus incredible support Friday 19th June 2026.
DESCRIPTION:SABBRA CADABRA return after their sell out show at The Ramp. Do not miss this OZZY fans\, plus support from the incredible ARCEU5 and INFRARED.
URL:https://ticketfest.co.uk/event/sabbra-cadabra-live-at-the-ramp-horwich-plus-incredible-support-friday-19th-june-2026/
LOCATION:The Ramp Horwich\, unit 9 weavers corner\, horwich\, Bolton\, BL6 7JH
CATEGORIES:Music
ATTACH;FMTTYPE=image/png:https://ticketfest.co.uk/wp-content/uploads/2026/03/image-3.png
END:VEVENT
BEGIN:VEVENT
DTSTART;TZID=Europe/London:20260620T190000
DTEND;TZID=Europe/London:20260620T233000
DTSTAMP:20260423T195008
CREATED:20260203T205356Z
LAST-MODIFIED:20260203T205359Z
UID:26920-1781982000-1781998200@ticketfest.co.uk
SUMMARY:Ska @ The Alma - Dakka Skanks\, Harijan & Old Radio Saturday 20th June 2026
DESCRIPTION:
URL:https://ticketfest.co.uk/event/ska-the-alma-dakka-skanks-harijan-old-radio-saturday-20th-june-2026/
LOCATION:The Alma Inn\, Bolton\, The Alma Inn\, 152-154 Bradshawgate\, Bolton\, BL2 1BA\, United Kingdom
CATEGORIES:Music
ATTACH;FMTTYPE=image/png:https://ticketfest.co.uk/wp-content/uploads/2026/02/image-1.png
END:VEVENT
BEGIN:VEVENT
DTSTART;TZID=Europe/London:20260627T190000
DTEND;TZID=Europe/London:20260627T233000
DTSTAMP:20260423T195008
CREATED:20260123T221324Z
LAST-MODIFIED:20260123T221327Z
UID:26602-1782586800-1782603000@ticketfest.co.uk
SUMMARY:The Ramp Horwich presents LADIES NIGHT. Get ready for a night of music and fun. Saturday 27th June 2026. Over 18 only.
DESCRIPTION:
URL:https://ticketfest.co.uk/event/the-ramp-horwich-presents-ladies-night-get-ready-for-a-night-of-music-and-fun-saturday-27th-june-2026-over-18-only/
LOCATION:The Ramp Horwich\, unit 9 weavers corner\, horwich\, Bolton\, BL6 7JH
CATEGORIES:Comedy,Community,Music
ATTACH;FMTTYPE=image/png:https://ticketfest.co.uk/wp-content/uploads/2026/01/image-15.png
END:VEVENT
END:VCALENDAR