BEGIN:VCALENDAR
VERSION:2.0
PRODID:-//TicketFest - ECPv6.15.20//NONSGML v1.0//EN
CALSCALE:GREGORIAN
METHOD:PUBLISH
X-WR-CALNAME:TicketFest
X-ORIGINAL-URL:https://ticketfest.co.uk
X-WR-CALDESC:Events for TicketFest
REFRESH-INTERVAL;VALUE=DURATION:PT1H
X-Robots-Tag:noindex
X-PUBLISHED-TTL:PT1H
BEGIN:VTIMEZONE
TZID:Europe/London
BEGIN:DAYLIGHT
TZOFFSETFROM:+0000
TZOFFSETTO:+0100
TZNAME:BST
DTSTART:20240331T010000
END:DAYLIGHT
BEGIN:STANDARD
TZOFFSETFROM:+0100
TZOFFSETTO:+0000
TZNAME:GMT
DTSTART:20241027T010000
END:STANDARD
BEGIN:DAYLIGHT
TZOFFSETFROM:+0000
TZOFFSETTO:+0100
TZNAME:BST
DTSTART:20250330T010000
END:DAYLIGHT
BEGIN:STANDARD
TZOFFSETFROM:+0100
TZOFFSETTO:+0000
TZNAME:GMT
DTSTART:20251026T010000
END:STANDARD
BEGIN:DAYLIGHT
TZOFFSETFROM:+0000
TZOFFSETTO:+0100
TZNAME:BST
DTSTART:20260329T010000
END:DAYLIGHT
BEGIN:STANDARD
TZOFFSETFROM:+0100
TZOFFSETTO:+0000
TZNAME:GMT
DTSTART:20261025T010000
END:STANDARD
BEGIN:DAYLIGHT
TZOFFSETFROM:+0000
TZOFFSETTO:+0100
TZNAME:BST
DTSTART:20270328T010000
END:DAYLIGHT
BEGIN:STANDARD
TZOFFSETFROM:+0100
TZOFFSETTO:+0000
TZNAME:GMT
DTSTART:20271031T010000
END:STANDARD
END:VTIMEZONE
BEGIN:VEVENT
DTSTART;TZID=Europe/London:20260530T190000
DTEND;TZID=Europe/London:20260530T233000
DTSTAMP:20260424T013755
CREATED:20260412T233542Z
LAST-MODIFIED:20260413T205344Z
UID:29090-1780167600-1780183800@ticketfest.co.uk
SUMMARY:TELFEST 2026 40TH Birthday Bash live at The Ramp Horwich Saturday 30TH May 2026.
DESCRIPTION:Celebrating Chris’ 40TH Birthday. Free entry….just book your ticket. No more than 4 per person.
URL:https://ticketfest.co.uk/event/telfest-2026-40th-birthday-bash-live-at-the-ramp-horwich-saturday-30th-may-2026/
LOCATION:The Ramp Horwich\, unit 9 weavers corner\, horwich\, Bolton\, BL6 7JH
CATEGORIES:Music
ATTACH;FMTTYPE=image/png:https://ticketfest.co.uk/wp-content/uploads/2026/04/image-7.png
END:VEVENT
BEGIN:VEVENT
DTSTART;TZID=Europe/London:20260529T193000
DTEND;TZID=Europe/London:20260529T233000
DTSTAMP:20260424T013755
CREATED:20260325T210106Z
LAST-MODIFIED:20260325T210110Z
UID:28559-1780083000-1780097400@ticketfest.co.uk
SUMMARY:THE FANTASTIC FELLINIS live at The Ramp Horwich plus amazing local support. Friday 29th May 2026
DESCRIPTION:Mod powered garage pop at it’s best
URL:https://ticketfest.co.uk/event/the-fantastic-fellinis-live-at-the-ramp-horwich-plus-amazing-local-support-friday-29th-may-2026/
LOCATION:The Ramp Horwich\, unit 9 weavers corner\, horwich\, Bolton\, BL6 7JH
CATEGORIES:Music
ATTACH;FMTTYPE=image/png:https://ticketfest.co.uk/wp-content/uploads/2026/03/image-4.png
END:VEVENT
BEGIN:VEVENT
DTSTART;TZID=Europe/London:20260523T183000
DTEND;TZID=Europe/London:20260523T233000
DTSTAMP:20260424T013755
CREATED:20260320T190030Z
LAST-MODIFIED:20260409T195417Z
UID:28448-1779561000-1779579000@ticketfest.co.uk
SUMMARY:Rick Fest live at The Ramp Horwich Saturday 23rd May 2026
DESCRIPTION:
URL:https://ticketfest.co.uk/event/rick-fest/
LOCATION:The Ramp Horwich\, unit 9 weavers corner\, horwich\, Bolton\, BL6 7JH
CATEGORIES:Music
ATTACH;FMTTYPE=image/jpeg:https://ticketfest.co.uk/wp-content/uploads/2026/03/RickFest_poster_digital_version1-scaled.jpg
END:VEVENT
BEGIN:VEVENT
DTSTART;TZID=Europe/London:20260516T190000
DTEND;TZID=Europe/London:20260516T233000
DTSTAMP:20260424T013755
CREATED:20260206T103000Z
LAST-MODIFIED:20260321T170451Z
UID:26932-1778958000-1778974200@ticketfest.co.uk
SUMMARY:INDIE IGNITION presents The Juice plus incredible support live at The Ramp Saturday 16th May 2026.
DESCRIPTION:
URL:https://ticketfest.co.uk/event/indie-ignition-presents-the-juice-plus-incredible-support-live-at-the-ramp-saturday-16th-may-2026/
LOCATION:The Ramp Horwich\, unit 9 weavers corner\, horwich\, Bolton\, BL6 7JH
CATEGORIES:Music
ATTACH;FMTTYPE=image/png:https://ticketfest.co.uk/wp-content/uploads/2026/02/image-12.png
END:VEVENT
BEGIN:VEVENT
DTSTART;TZID=Europe/London:20260515T190000
DTEND;TZID=Europe/London:20260515T233000
DTSTAMP:20260424T013755
CREATED:20260411T220138Z
LAST-MODIFIED:20260411T220142Z
UID:29008-1778871600-1778887800@ticketfest.co.uk
SUMMARY:THE MOORS with The Velvetines + Red Clogs live at The Ramp Horwich Friday 15th May 2026.
DESCRIPTION:
URL:https://ticketfest.co.uk/event/the-moors-with-the-velvetines-red-clogs-live-at-the-ramp-horwich-friday-15th-may-2026/
LOCATION:The Ramp Horwich\, unit 9 weavers corner\, horwich\, Bolton\, BL6 7JH
CATEGORIES:Music
ATTACH;FMTTYPE=image/png:https://ticketfest.co.uk/wp-content/uploads/2026/04/image-3.png
END:VEVENT
BEGIN:VEVENT
DTSTART;TZID=Europe/London:20260509T193000
DTEND;TZID=Europe/London:20260509T233000
DTSTAMP:20260424T013755
CREATED:20260115T205123Z
LAST-MODIFIED:20260115T205126Z
UID:26241-1778355000-1778369400@ticketfest.co.uk
SUMMARY:PISTOL WHIPPED return. Live at the Ramp Horwich plus support Saturday 9th May 2026
DESCRIPTION:
URL:https://ticketfest.co.uk/event/pistol-whipped-return-live-at-the-ramp-horwich-plus-support-saturday-9th-may-2026/
LOCATION:The Ramp Horwich\, unit 9 weavers corner\, horwich\, Bolton\, BL6 7JH
CATEGORIES:Music
ATTACH;FMTTYPE=image/png:https://ticketfest.co.uk/wp-content/uploads/2026/01/image-9.png
END:VEVENT
BEGIN:VEVENT
DTSTART;TZID=Europe/London:20260502T193000
DTEND;TZID=Europe/London:20260502T233000
DTSTAMP:20260424T013755
CREATED:20260409T221848Z
LAST-MODIFIED:20260409T222210Z
UID:28913-1777750200-1777764600@ticketfest.co.uk
SUMMARY:The STANDBYS plus incredible support. Live at The Ramp Horwich Saturday 2nd May 2026. Free entry just book your slot
DESCRIPTION:The Standbys all the way for Wigan are coming to The Ramp with amazing support. A great free night of the best new Indie talent around.
URL:https://ticketfest.co.uk/event/the-standbys-plus-incredible-support-live-at-the-ramp-horwich-saturday-2nd-may-2026-free-entry-just-book-you-slot/
LOCATION:The Ramp Horwich\, unit 9 weavers corner\, horwich\, Bolton\, BL6 7JH
CATEGORIES:Music
ATTACH;FMTTYPE=image/png:https://ticketfest.co.uk/wp-content/uploads/2026/04/image-2.png
END:VEVENT
BEGIN:VEVENT
DTSTART;TZID=Europe/London:20260501T190000
DTEND;TZID=Europe/London:20260501T223000
DTSTAMP:20260424T013755
CREATED:20260201T214306Z
LAST-MODIFIED:20260201T214309Z
UID:26847-1777662000-1777674600@ticketfest.co.uk
SUMMARY:The Ramp presents-LiL SoLace plus support Friday 1st May 2026
DESCRIPTION:
URL:https://ticketfest.co.uk/event/the-ramp-presents-lil-solace-plus-support-friday-1st-may-2026/
LOCATION:The Ramp Horwich\, unit 9 weavers corner\, horwich\, Bolton\, BL6 7JH
CATEGORIES:Music
ATTACH;FMTTYPE=image/png:https://ticketfest.co.uk/wp-content/uploads/2026/02/image.png
END:VEVENT
BEGIN:VEVENT
DTSTART;TZID=Europe/London:20260425T190000
DTEND;TZID=Europe/London:20260425T233000
DTSTAMP:20260424T013755
CREATED:20250904T200140Z
LAST-MODIFIED:20250904T200146Z
UID:23341-1777143600-1777159800@ticketfest.co.uk
SUMMARY:TOTAL CLASH a Tribute to The Clash. Live at The Ramp Horwich. Saturday 25th April 2026 + support
DESCRIPTION:
URL:https://ticketfest.co.uk/event/total-clash-a-tribute-to-the-clash-live-at-the-ramp-horwich-saturday-25th-april-2026-support/
LOCATION:The Ramp Horwich\, unit 9 weavers corner\, horwich\, Bolton\, BL6 7JH
CATEGORIES:Music
ATTACH;FMTTYPE=image/png:https://ticketfest.co.uk/wp-content/uploads/2025/09/image-1.png
END:VEVENT
BEGIN:VEVENT
DTSTART;TZID=Europe/London:20260131T080000
DTEND;TZID=Europe/London:20260131T170000
DTSTAMP:20260424T013755
CREATED:20260109T214846Z
LAST-MODIFIED:20260109T214849Z
UID:26100-1769846400-1769878800@ticketfest.co.uk
SUMMARY:The Ramp Annual Free Entry Gig Pass 2026. Restrictions apply. Limited numbers available.
DESCRIPTION:Gigs under £12 included in this ticket.Only named person can useMust be shown on entry
URL:https://ticketfest.co.uk/event/the-ramp-annual-free-entry-gig-pass-2026-restrictions-apply-limited-numbers-available/
LOCATION:The Ramp Horwich\, unit 9 weavers corner\, horwich\, Bolton\, BL6 7JH
CATEGORIES:Community,Free Events,Music
ATTACH;FMTTYPE=image/png:https://ticketfest.co.uk/wp-content/uploads/2026/01/image-2.png
END:VEVENT
BEGIN:VEVENT
DTSTART;TZID=Europe/London:20260130T193000
DTEND;TZID=Europe/London:20260130T233000
DTSTAMP:20260424T013755
CREATED:20251009T183411Z
LAST-MODIFIED:20251216T193515Z
UID:24289-1769801400-1769815800@ticketfest.co.uk
SUMMARY:Naff Punk A UK Tribute to Daft Punk live at The Ramp Horwich 30th January 2026 + support
DESCRIPTION:
URL:https://ticketfest.co.uk/event/naff-punk-a-uk-tribute-to-daft-punk-live-at-the-ramp-horwich-30th-january-2026-support/
LOCATION:The Ramp Horwich\, unit 9 weavers corner\, horwich\, Bolton\, BL6 7JH
CATEGORIES:Music
ATTACH;FMTTYPE=image/png:https://ticketfest.co.uk/wp-content/uploads/2025/10/image-9.png
END:VEVENT
BEGIN:VEVENT
DTSTART;TZID=Europe/London:20251115T190000
DTEND;TZID=Europe/London:20251115T233000
DTSTAMP:20260424T013755
CREATED:20251025T144840Z
LAST-MODIFIED:20251025T144856Z
UID:24896-1763233200-1763249400@ticketfest.co.uk
SUMMARY:The Mayors Rodeo. 15th November Haig Barn supporting The Mayor of Horwich & The Mayor of Blackrod Charities.
DESCRIPTION:Welcome to the Mayors of Horwich and Blackrod “Rodeo” Special Charity Fundraiser! \n\n\n\nDress Code: Country/Cowboy attire encouraged \n\n\n\nHorwich Mayor’s chosen charities: Horwich Foodshare\, Fortalice and Teenage Cancer Trust.Blackrod Mayor’s chosen charities: Bolton Wanderers in the Community\, Childhood Eye Cancer Trust and Bolton Hospice. \n\n\n\nThe night promises to be a memorable night of fun and community spirit.
URL:https://ticketfest.co.uk/event/the-mayors-rodeo-15th-november-haig-barn-supporting-the-mayor-of-horwich-the-mayor-of-blackrod-charities/
LOCATION:Bolton
CATEGORIES:Community
ATTACH;FMTTYPE=image/png:https://ticketfest.co.uk/wp-content/uploads/2025/10/image-7.png
END:VEVENT
BEGIN:VEVENT
DTSTART;TZID=Europe/London:20251011T183000
DTEND;TZID=Europe/London:20251011T233000
DTSTAMP:20260424T013755
CREATED:20250318T213454Z
LAST-MODIFIED:20250331T221022Z
UID:16515-1760207400-1760225400@ticketfest.co.uk
SUMMARY:The Alma Inn presents....Oi! Vol. 5 in aid of Dementia UK. Saturday 11th October 2025.
DESCRIPTION:
URL:https://ticketfest.co.uk/event/the-alma-inn-presents-oi-vol-5-in-aid-of-dementia-uk-saturday-11th-october-2025/
LOCATION:The Alma Inn\, Bolton\, The Alma Inn\, 152-154 Bradshawgate\, Bolton\, BL2 1BA\, United Kingdom
CATEGORIES:Music
ATTACH;FMTTYPE=image/png:https://ticketfest.co.uk/wp-content/uploads/2025/03/image-8.png
END:VEVENT
END:VCALENDAR