BEGIN:VCALENDAR
VERSION:2.0
PRODID:-//TicketFest - ECPv6.15.20//NONSGML v1.0//EN
CALSCALE:GREGORIAN
METHOD:PUBLISH
X-ORIGINAL-URL:https://ticketfest.co.uk
X-WR-CALDESC:Events for TicketFest
REFRESH-INTERVAL;VALUE=DURATION:PT1H
X-Robots-Tag:noindex
X-PUBLISHED-TTL:PT1H
BEGIN:VTIMEZONE
TZID:Europe/London
BEGIN:DAYLIGHT
TZOFFSETFROM:+0000
TZOFFSETTO:+0100
TZNAME:BST
DTSTART:20250330T010000
END:DAYLIGHT
BEGIN:STANDARD
TZOFFSETFROM:+0100
TZOFFSETTO:+0000
TZNAME:GMT
DTSTART:20251026T010000
END:STANDARD
BEGIN:DAYLIGHT
TZOFFSETFROM:+0000
TZOFFSETTO:+0100
TZNAME:BST
DTSTART:20260329T010000
END:DAYLIGHT
BEGIN:STANDARD
TZOFFSETFROM:+0100
TZOFFSETTO:+0000
TZNAME:GMT
DTSTART:20261025T010000
END:STANDARD
BEGIN:DAYLIGHT
TZOFFSETFROM:+0000
TZOFFSETTO:+0100
TZNAME:BST
DTSTART:20270328T010000
END:DAYLIGHT
BEGIN:STANDARD
TZOFFSETFROM:+0100
TZOFFSETTO:+0000
TZNAME:GMT
DTSTART:20271031T010000
END:STANDARD
END:VTIMEZONE
BEGIN:VEVENT
DTSTART;TZID=Europe/London:20260903T190000
DTEND;TZID=Europe/London:20260903T233000
DTSTAMP:20260423T235636
CREATED:20260308T201637Z
LAST-MODIFIED:20260308T201652Z
UID:28076-1788462000-1788478200@ticketfest.co.uk
SUMMARY:ELCOAT DEAN presents LOS FASTIDIOS + support. Live at The Alma Inn Bolton Thursday 3rd September 2026.
DESCRIPTION:
URL:https://ticketfest.co.uk/event/elcoat-dean-presents-los-fastidios-support-live-at-the-alma-inn-bolton-thursday-3rd-september-2026/
LOCATION:The Alma Inn\, Bolton\, The Alma Inn\, 152-154 Bradshawgate\, Bolton\, BL2 1BA\, United Kingdom
CATEGORIES:Music
ATTACH;FMTTYPE=image/png:https://ticketfest.co.uk/wp-content/uploads/2026/03/image.png
END:VEVENT
BEGIN:VEVENT
DTSTART;TZID=Europe/London:20260912T130000
DTEND;TZID=Europe/London:20260912T233000
DTSTAMP:20260423T235636
CREATED:20260327T215340Z
LAST-MODIFIED:20260327T215534Z
UID:28604-1789218000-1789255800@ticketfest.co.uk
SUMMARY:ELCOAT DEAN PRESENTS Bolton Punks Picnic '26. Live at The Alma Inn Bolton Saturday 12th September 2026. Doors at 1PM.
DESCRIPTION:
URL:https://ticketfest.co.uk/event/bolton-punk-picnic-2026/
LOCATION:The Alma Inn\, Bolton\, The Alma Inn\, 152-154 Bradshawgate\, Bolton\, BL2 1BA\, United Kingdom
CATEGORIES:Music
ATTACH;FMTTYPE=image/png:https://ticketfest.co.uk/wp-content/uploads/2026/03/image-5.png
END:VEVENT
END:VCALENDAR