BEGIN:VCALENDAR
VERSION:2.0
PRODID:-//TicketFest - ECPv6.15.20//NONSGML v1.0//EN
CALSCALE:GREGORIAN
METHOD:PUBLISH
X-WR-CALNAME:TicketFest
X-ORIGINAL-URL:https://ticketfest.co.uk
X-WR-CALDESC:Events for TicketFest
REFRESH-INTERVAL;VALUE=DURATION:PT1H
X-Robots-Tag:noindex
X-PUBLISHED-TTL:PT1H
BEGIN:VTIMEZONE
TZID:Europe/London
BEGIN:DAYLIGHT
TZOFFSETFROM:+0000
TZOFFSETTO:+0100
TZNAME:BST
DTSTART:20250330T010000
END:DAYLIGHT
BEGIN:STANDARD
TZOFFSETFROM:+0100
TZOFFSETTO:+0000
TZNAME:GMT
DTSTART:20251026T010000
END:STANDARD
BEGIN:DAYLIGHT
TZOFFSETFROM:+0000
TZOFFSETTO:+0100
TZNAME:BST
DTSTART:20260329T010000
END:DAYLIGHT
BEGIN:STANDARD
TZOFFSETFROM:+0100
TZOFFSETTO:+0000
TZNAME:GMT
DTSTART:20261025T010000
END:STANDARD
BEGIN:DAYLIGHT
TZOFFSETFROM:+0000
TZOFFSETTO:+0100
TZNAME:BST
DTSTART:20270328T010000
END:DAYLIGHT
BEGIN:STANDARD
TZOFFSETFROM:+0100
TZOFFSETTO:+0000
TZNAME:GMT
DTSTART:20271031T010000
END:STANDARD
END:VTIMEZONE
BEGIN:VEVENT
DTSTART;TZID=Europe/London:20260704T183000
DTEND;TZID=Europe/London:20260704T233000
DTSTAMP:20260423T211251
CREATED:20260226T202959Z
LAST-MODIFIED:20260226T203045Z
UID:27590-1783189800-1783207800@ticketfest.co.uk
SUMMARY:ELCOAT DEAN PROMOTIONS presents Live at The Alma Inn ...Peter & The Test Tube Babies Saturday 4th July + support. Doors at 6.30PM
DESCRIPTION:
URL:https://ticketfest.co.uk/event/elcoat-dean-promotions-presents-live-at-the-alma-inn-peter-the-test-tube-babies-saturday-4th-july-support-doors-at-6-30pm/
LOCATION:The Alma Inn\, Bolton\, The Alma Inn\, 152-154 Bradshawgate\, Bolton\, BL2 1BA\, United Kingdom
CATEGORIES:Music
ATTACH;FMTTYPE=image/png:https://ticketfest.co.uk/wp-content/uploads/2026/02/image-11.png
END:VEVENT
BEGIN:VEVENT
DTSTART;TZID=Europe/London:20260711T140000
DTEND;TZID=Europe/London:20260711T233000
DTSTAMP:20260423T211251
CREATED:20260217T195442Z
LAST-MODIFIED:20260217T200234Z
UID:27411-1783778400-1783812600@ticketfest.co.uk
SUMMARY:ELCOAT DEAN Presents live at The ALMA INN Bolton 'BASTARD STOCK 26' Saturday 11th July 2026 doors at 2PM
DESCRIPTION:
URL:https://ticketfest.co.uk/event/elcoat-dean-presents-live-at-the-alma-inn-bolton-bastard-stock-26-saturday-11th-july-2026/
LOCATION:The Alma Inn\, Bolton\, The Alma Inn\, 152-154 Bradshawgate\, Bolton\, BL2 1BA\, United Kingdom
CATEGORIES:Music
ATTACH;FMTTYPE=image/png:https://ticketfest.co.uk/wp-content/uploads/2026/02/image-8.png
END:VEVENT
BEGIN:VEVENT
DTSTART;TZID=Europe/London:20260711T190000
DTEND;TZID=Europe/London:20260711T233000
DTSTAMP:20260423T211251
CREATED:20260220T100000Z
LAST-MODIFIED:20260212T212909Z
UID:27308-1783796400-1783812600@ticketfest.co.uk
SUMMARY:INDIE IGNITION presents The Forensics + incredible support live at The Ramp Horwich Saturday 11th July 2026.
DESCRIPTION:
URL:https://ticketfest.co.uk/event/indie-ignition-presents-the-forensics-incredible-support-live-at-the-ramp-horwich-saturday-11th-july-2026/
LOCATION:The Ramp Horwich\, unit 9 weavers corner\, horwich\, Bolton\, BL6 7JH
CATEGORIES:Free Events,Music
ATTACH;FMTTYPE=image/png:https://ticketfest.co.uk/wp-content/uploads/2026/02/image-7.png
END:VEVENT
BEGIN:VEVENT
DTSTART;TZID=Europe/London:20260717T190000
DTEND;TZID=Europe/London:20260717T233000
DTSTAMP:20260423T211251
CREATED:20260203T205937Z
LAST-MODIFIED:20260203T205940Z
UID:26924-1784314800-1784331000@ticketfest.co.uk
SUMMARY:ELCOAT-DEAN Presents. John Otway with full band plus support Live at The Alma Inn Bolton Friday 17th July 2026
DESCRIPTION:
URL:https://ticketfest.co.uk/event/elcoat-dean-presents-john-otway-with-full-band-plus-support-live-at-the-alma-inn-bolton-friday-17th-july-2026/
LOCATION:The Alma Inn\, Bolton\, The Alma Inn\, 152-154 Bradshawgate\, Bolton\, BL2 1BA\, United Kingdom
CATEGORIES:Music
ATTACH;FMTTYPE=image/png:https://ticketfest.co.uk/wp-content/uploads/2026/02/image-2.png
END:VEVENT
BEGIN:VEVENT
DTSTART;TZID=Europe/London:20260719T140000
DTEND;TZID=Europe/London:20260719T183000
DTSTAMP:20260423T211251
CREATED:20260129T210428Z
LAST-MODIFIED:20260129T210434Z
UID:26743-1784469600-1784485800@ticketfest.co.uk
SUMMARY:Elcoat-Dean Promotions presents. Riskee & The Ridicule live at The Alma Inn Bolton. Sunday 19th July 2026 Matinee Show. 2PM - 6.30PM  plus support.
DESCRIPTION:
URL:https://ticketfest.co.uk/event/elcoat-dean-promotions-presents-riskee-the-ridicule-live-at-the-alma-inn-bolton-sunday-19th-july-2026-matinee-show-2pm-6-30pm-plus-support/
LOCATION:The Alma Inn\, Bolton\, The Alma Inn\, 152-154 Bradshawgate\, Bolton\, BL2 1BA\, United Kingdom
CATEGORIES:Music
ATTACH;FMTTYPE=image/png:https://ticketfest.co.uk/wp-content/uploads/2026/01/image-16.png
END:VEVENT
BEGIN:VEVENT
DTSTART;TZID=Europe/London:20260725T190000
DTEND;TZID=Europe/London:20260725T233000
DTSTAMP:20260423T211251
CREATED:20260302T103000Z
LAST-MODIFIED:20260224T220647Z
UID:27576-1785006000-1785022200@ticketfest.co.uk
SUMMARY:Indie Ignition presents TUESDAY NIGHT WHITES-Jonny Blade-plus incredible support live at The Ramp Horwich Saturday 25th July 2026. Free entry. Reserve your ticket to guarantee entry.
DESCRIPTION:maximum 4 tickets per booking. extra block bookings will be declined
URL:https://ticketfest.co.uk/event/indie-ignition-presents-tuesday-night-whites-jonny-blade-plus-incredible-support-live-at-the-ramp-horwich-saturday-25th-july-2026-free-entry-reserve-your-ticket-to-guarantee-entry/
LOCATION:The Ramp Horwich\, unit 9 weavers corner\, horwich\, Bolton\, BL6 7JH
CATEGORIES:Music
ATTACH;FMTTYPE=image/png:https://ticketfest.co.uk/wp-content/uploads/2026/02/image-10.png
END:VEVENT
END:VCALENDAR