BEGIN:VCALENDAR
VERSION:2.0
PRODID:-//TicketFest - ECPv6.15.20//NONSGML v1.0//EN
CALSCALE:GREGORIAN
METHOD:PUBLISH
X-ORIGINAL-URL:https://ticketfest.co.uk
X-WR-CALDESC:Events for TicketFest
REFRESH-INTERVAL;VALUE=DURATION:PT1H
X-Robots-Tag:noindex
X-PUBLISHED-TTL:PT1H
BEGIN:VTIMEZONE
TZID:Europe/London
BEGIN:DAYLIGHT
TZOFFSETFROM:+0000
TZOFFSETTO:+0100
TZNAME:BST
DTSTART:20250330T010000
END:DAYLIGHT
BEGIN:STANDARD
TZOFFSETFROM:+0100
TZOFFSETTO:+0000
TZNAME:GMT
DTSTART:20251026T010000
END:STANDARD
BEGIN:DAYLIGHT
TZOFFSETFROM:+0000
TZOFFSETTO:+0100
TZNAME:BST
DTSTART:20260329T010000
END:DAYLIGHT
BEGIN:STANDARD
TZOFFSETFROM:+0100
TZOFFSETTO:+0000
TZNAME:GMT
DTSTART:20261025T010000
END:STANDARD
BEGIN:DAYLIGHT
TZOFFSETFROM:+0000
TZOFFSETTO:+0100
TZNAME:BST
DTSTART:20270328T010000
END:DAYLIGHT
BEGIN:STANDARD
TZOFFSETFROM:+0100
TZOFFSETTO:+0000
TZNAME:GMT
DTSTART:20271031T010000
END:STANDARD
END:VTIMEZONE
BEGIN:VEVENT
DTSTART;TZID=Europe/London:20260822T160000
DTEND;TZID=Europe/London:20260822T223000
DTSTAMP:20260423T211245
CREATED:20260115T204545Z
LAST-MODIFIED:20260115T204548Z
UID:26236-1787414400-1787437800@ticketfest.co.uk
SUMMARY:HORWICH HOEDOWN FEST live at the Ramp. 22nd August 2026. Raising money for Macmillan Cancer Support.
DESCRIPTION:
URL:https://ticketfest.co.uk/event/horwich-hoedown-fest-live-at-the-ramp-22nd-august-2026-raising-money-for-macmillan-cancer-support/
LOCATION:The Ramp Horwich\, unit 9 weavers corner\, horwich\, Bolton\, BL6 7JH
CATEGORIES:Community,Festivals,Music
ATTACH;FMTTYPE=image/png:https://ticketfest.co.uk/wp-content/uploads/2026/01/image-8.png
END:VEVENT
END:VCALENDAR